BEGIN:VCALENDAR
VERSION:2.0
PRODID:-//wp-events-plugin.com//7.2.3.1//EN
TZID:Europe/Berlin
X-WR-TIMEZONE:Europe/Berlin
BEGIN:VEVENT
UID:22@queeres-netzwerk.nrw
DTSTART;TZID=Europe/Berlin:20230708T120000
DTEND;TZID=Europe/Berlin:20230708T143000
DTSTAMP:20230703T072940Z
URL:https://queeres-netzwerk.nrw/events/csd-empfang-2023/
SUMMARY:CSD-Empfang 2023
DESCRIPTION:\n\n\n\nDer gemeinsame CSD-Empfang des Queeren Netzwerks NRW un
 d der Aidshilfe NRW findet jährlich im Rahmen des colognepride statt. Etw
 a 800 geladene Gäste aus unseren Mitgliedsorganisationen\, aus kooperiere
 nden Verbänden\, aus Politik\, Wirtschaft\, Medien und Kultur nehmen an d
 er Veranstaltung teil.\n\n\n\n\n\n\n\n\nAm Anfang im Tanzsaal des SchULZ\,
  später im Media-Park\, heute im Gürzenich und im Maritim Hotel: Seit 19
 93 gibt es diesen Empfang\, zu dem seit 2000 das Queere Netzwerk NRW und d
 ie Aidshilfe NRW gemeinsam einladen. Im Rahmen des Empfangs verleiht das Q
 ueere Netzwerk den Preis „Die Kompassnadel.“ Mit dem Preis werden Pers
 önlichkeiten und Organisationen ausgezeichnet\, die sich besonders um die
  Förderung der gesellschaftlichen Akzeptanz von LSBTIAQ* verdient gemacht
  haben. Ursprünglich wurde die Auszeichnung in zwei Kategorien (Ehrenamt 
 und Öffentliches Leben) verliehen\, seit einiger Zeit nun wird jährlich 
 nur noch eine Kompassnadel verliehen. Damit liegt der Fokus nun jedes Jahr
  ganz auf einem einzigartigen Projekt oder einer Persönlichkeit\, die wir
  für ihr herausragendes Engagement auszeichnen. Eine Liste all unserer bi
 sherigen Preisträger*innen gibt es auf der Webseite des Queeren Netzwerks
  NRW: Die Kompassnadel.\n\n\n\n\n\n\n\n\nNach dem festlichen Programm komm
 en unsere Gäste miteinander ins Gespräch. Es begegnen sich die Mitglieds
 organisationen der beiden Verbände – sie lernen sich kennen\, frischen 
 Bekanntschaften auf und tauschen sich aus. Hinzu kommen Gäste aus anderen
  Verbänden\, aus Politik und Verwaltung\, die die Gelegenheit zum Gesprä
 ch mit ehemaligen\, aktuellen und künftigen Kooperationspartnern nutzen\,
  die durch ihre Teilnahme vor allem aber auch Wertschätzung des überwieg
 end ehrenamtlichen Engagements ausdrücken. Auch Persönlichkeiten und Pro
 minenz der überregionalen Communities sind vertreten\, denn über die Jah
 re hat sich die Veranstaltung als einer der größten und vielfältigsten 
 Queer-Empfänge Deutschlands einen Namen gemacht.\n\n\n\nWir bitten um Anm
 eldung über das untenstehende Formular.\n\nZur Anmeldung einige Hinweise:
 \n\n 	Bitte füllen Sie Formular für jede Person einmal aus - Zusätze wi
 e "und Begleitung" erschweren uns die Erstellung von Namensschildern und T
 eilnamelisten\n 	sollten Sie beim Absenden des Formulars Probleme haben (z
 .B.\, weil Ihr Eintrag als Spam eingeordnet wird) hilft manchmal der Wechs
 el in einen anderen Browser. Sollten Sie weiterhin Probleme haben\, melden
  Sie sich gerne per e-Mail bei uns: anmeldung(at)queeres-netzwerk.nrw.\n\n
 Hinweise zu Barrieren und Zugänglichkeit:\n\n 	Während der Veranstaltung
  werden Fotos gemacht. Wenn Sie nicht möchten\, dass Fotos von ihnen im Z
 usammenhang mit der Veranstaltung veröffentlicht werden\, können Sie das
  im Anmeldeformular angeben. Sie erhalten dann am Eingang einen Aufkleber 
 für Ihr Namensschild\, der unsere Fotograf*innen darüber informiert. Spr
 echen Sie gerne vor Ort unser Empfangs-Team an.\n 	Die Veranstaltung finde
 t in deutscher Lautsprache statt und wird in Gebärdensprache übersetzt.\
 n 	Die Räumlichkeiten sind mit dem Rollstuhl zugänglich.\n 	Während der
  Veranstaltung bieten wir eine Kinderbetreuung an. Damit wir hierfür plan
 en können\, teilen Sie uns bitte mit\, wie viele Kinder Sie anmelden und 
 wie alt die Kinder sind.\n 	Wenn Sie weitere Fragen zur Zugänglichkeit de
 r Veranstaltung haben\, melden Sie sich gerne per e-Mail bei uns. Wir bem
 ühen uns\, die Veranstaltung so zugänglich wie möglich zu gestalten!\n\
 n\n&nbsp\;
ATTACH;FMTTYPE=image/jpeg:https://queeres-netzwerk.nrw/wp-content/uploads/
 2022/07/CSD-Empfang-05271-scaled.jpg
CATEGORIES:Events
LOCATION:Gürzenich Köln\, Martinstraße 29-37\, Köln\, 50667\, Deutschla
 nd
X-APPLE-STRUCTURED-LOCATION;VALUE=URI;X-ADDRESS=Martinstraße 29-37\, Köln
 \, 50667\, Deutschland;X-APPLE-RADIUS=100;X-TITLE=Gürzenich Köln:geo:0,0
END:VEVENT
BEGIN:VTIMEZONE
TZID:Europe/Berlin
X-LIC-LOCATION:Europe/Berlin
BEGIN:DAYLIGHT
DTSTART:20230326T030000
TZOFFSETFROM:+0100
TZOFFSETTO:+0200
TZNAME:CEST
END:DAYLIGHT
END:VTIMEZONE
END:VCALENDAR